BEGIN:VCALENDAR
VERSION:2.0
PRODID:-//wp-events-plugin.com//7.2.3.1//EN
BEGIN:VEVENT
UID:94@vanaproduction.com
DTSTART;TZID=Europe/Paris:20260305T103000
DTEND;TZID=Europe/Paris:20260305T123000
DTSTAMP:20260212T102930Z
URL:https://vanaproduction.com/billeterie/cine-vivant-aladdin-jeudi-10h30/
SUMMARY:CINÉ-VIVANT : Aladdin (Jeudi - 10h30)
DESCRIPTION:\n\nRÉSERVATION\nCINÉ-VIVANT : Aladdin\nLe concept : projecti
 on du dessin animé Aladdin sur l'écran géant du théâtre Thoris Produc
 tion. L'écran remonte plusieurs fois pendant le film pour révéler les a
 rtistes qui adaptent les scènes du film à leur façon.\n\nRésumé du fi
 lm : Le jeune et pauvre Aladdin vit avec son singe Abu dans les rues et es
 t obligé de voler des aliments pour se nourrir. Un jour\, il fait la conn
 aissance de la princesse Jasmine\, fille du Sultan\, venue se promener inc
 ognito dans les quartiers populaires\, à la recherche d'aventure. Entre l
 es deux jeunes gens\, le coup de foudre est immédiat. Mais ils sont rapid
 ement rattrapés par les gardes du sultan.\n\nhttps://youtu.be/NZqFRTbi7IE
 ?si=x2JsxGztU4CVZb89\n\n\n\n\n 	Tarif unique : 8€\n 	Achat sur place pos
 sible dans la limite des places disponibles (espèces ou carte bleue)\n 	R
 enseignements : Christèle Colas 06 14 06 37 98\n 	Réservation en ligne :
  \n\n\nRÉSERVATION
ATTACH;FMTTYPE=image/jpeg:https://vanaproduction.com/wp-content/uploads/20
 26/02/Affiches_Jeudi_Jeu-10h-2.jpg
CATEGORIES:Ciné-Vivant
LOCATION:Théâtre Thoris Production\, Complexe Sportif\, Av. Carnot\, Cern
 y\, 91\, 91590\, Ile-de-France\, France
X-APPLE-STRUCTURED-LOCATION;VALUE=URI;X-ADDRESS=Complexe Sportif\, Av. Carn
 ot\, Cerny\, 91\, 91590\, Ile-de-France\, France;X-APPLE-RADIUS=100;X-TITL
 E=Théâtre Thoris Production:geo:0,0
END:VEVENT
BEGIN:VTIMEZONE
TZID:Europe/Paris
X-LIC-LOCATION:Europe/Paris
BEGIN:STANDARD
DTSTART:20251026T020000
TZOFFSETFROM:+0200
TZOFFSETTO:+0100
TZNAME:CET
END:STANDARD
END:VTIMEZONE
END:VCALENDAR